BEGIN:VCALENDAR
VERSION:2.0
PRODID:-//wp-events-plugin.com//7.2.3.1//EN
TZID:America/New_York
X-WR-TIMEZONE:America/New_York
BEGIN:VEVENT
UID:32@midmdtriclub.org
DTSTART;TZID=America/New_York:20250328T110000
DTEND;TZID=America/New_York:20250328T130000
DTSTAMP:20260308T083223Z
URL:https://www.midmdtriclub.org/events/duathlon-course-preview/
SUMMARY:Duathlon Course Preview
DESCRIPTION:We will start with a transition clinic followed by access to bi
 ke and run the course. We will have bike racks set up and will be monitori
 ng bikes while you all are out running.
END:VEVENT
BEGIN:VTIMEZONE
TZID:America/New_York
X-LIC-LOCATION:America/New_York
BEGIN:DAYLIGHT
DTSTART:20250309T030000
TZOFFSETFROM:-0500
TZOFFSETTO:-0400
TZNAME:EDT
END:DAYLIGHT
END:VTIMEZONE
END:VCALENDAR