BEGIN:VCALENDAR
VERSION:2.0
PRODID:-//wp-events-plugin.com//7.2.3.1//EN
TZID:America/New_York
X-WR-TIMEZONE:America/New_York
BEGIN:VEVENT
UID:41@midmdtriclub.org
DTSTART;TZID=America/New_York:20260426T140000
DTEND;TZID=America/New_York:20260426T153000
DTSTAMP:20260424T010241Z
URL:https://www.midmdtriclub.org/events/free-yoga-class/
SUMMARY:Free Yoga Class
DESCRIPTION:Free classes as part of Wendy's (and cohorts') Yoga Certificati
 on. Click the Link for Sunday at 2:00 pm and pick one of the three free cl
 asses.\n\nFree Yoga 1 with YTT 200s or Free Gentle Yoga with YTT 200s\nSig
 nump: https://www.columbiayoga.com/class-schedule
END:VEVENT
BEGIN:VTIMEZONE
TZID:America/New_York
X-LIC-LOCATION:America/New_York
BEGIN:DAYLIGHT
DTSTART:20260308T030000
TZOFFSETFROM:-0500
TZOFFSETTO:-0400
TZNAME:EDT
END:DAYLIGHT
END:VTIMEZONE
END:VCALENDAR